BEGIN:VCALENDAR
VERSION:2.0
PRODID:-//ChamberMaster//Event Calendar 2.0//EN
METHOD:PUBLISH
X-PUBLISHED-TTL:P1H
REFRESH-INTERVAL:P1H
CALSCALE:GREGORIAN
BEGIN:VTIMEZONE
TZID:America/Los_Angeles
BEGIN:DAYLIGHT
RRULE:FREQ=YEARLY;BYMONTH=3;BYDAY=2SU
DTSTART:20070101T000000
TZOFFSETFROM:-0800
TZOFFSETTO:-0700
TZNAME:Pacific Daylight Time
END:DAYLIGHT
BEGIN:STANDARD
RRULE:FREQ=YEARLY;BYMONTH=11;BYDAY=1SU
DTSTART:20070101T000000
TZOFFSETFROM:-0700
TZOFFSETTO:-0800
TZNAME:Pacific Standard Time
END:STANDARD
END:VTIMEZONE
BEGIN:VEVENT
DTSTART;TZID=America/Los_Angeles:20260414T103000
DTEND;TZID=America/Los_Angeles:20260729T150000
X-MICROSOFT-CDO-ALLDAYEVENT:FALSE
SUMMARY:[GOV Training] Key employment laws at L&I's upcoming webinars
DESCRIPTION:Learn about key employment laws at L&I's upcoming webinarsLearn more about Washington State employment laws by attending free webinars offered by the \,Vea esta informaci n en espa ol m s abajo.Webinar topics include:workers' rights\, overtime exemption rules\, isolated worker protections\, paid sick leave\, and the Equal Pay and Opportunities Act.Each session is led by Employment Standards Program staff and includes time for questions.To register\, visit  and search for the webinar by its title in the "Event Title" drop-down menu.Some webinars are offered at two different times. Both sessions cover the same content\, so you can choose the one that fits your schedule.
X-ALT-DESC;FMTTYPE=text/html:<!DOCTYPE html><html><head><title></title></head><body aria-disabled="false"><h1 align="left" style="font-style: normal\; font-variant-ligatures: normal\; font-variant-caps: normal\; letter-spacing: normal\; orphans: 2\; text-indent: 0px\; text-transform: none\; widows: 2\; word-spacing: 0px\; -webkit-text-stroke-width: 0px\; white-space: normal\; background-color: rgb(255\, 255\, 255)\; text-decoration-thickness: initial\; text-decoration-style: initial\; text-decoration-color: initial\; color: black !important\; font-size: 28px\; font-family: arial\, helvetica\, sans-serif\; font-weight: bold\; text-align: left\; margin: 0px 0px 15px\; line-height: 1.1\;"><strong data-olk-copy-source="MessageBody" fr-original-style="" style="font-weight: 700\;"><span style="font-family: Verdana\, Geneva\, sans-serif\; font-size: 18px\;">Learn about key employment laws at L&amp\;I&#39\;s upcoming webinars</span></strong></h1><p align="left" style="font-style: normal\; font-variant-ligatures: normal\; font-variant-caps: normal\; font-weight: 400\; letter-spacing: normal\; orphans: 2\; text-indent: 0px\; text-transform: none\; widows: 2\; word-spacing: 0px\; -webkit-text-stroke-width: 0px\; white-space: normal\; background-color: rgb(255\, 255\, 255)\; text-decoration-thickness: initial\; text-decoration-style: initial\; text-decoration-color: initial\; color: rgb(80\, 80\, 80) !important\; font-size: 14px\; font-family: arial\, helvetica\, sans-serif\; text-align: left\; margin: 15px 0px\; line-height: 1.4\;"><span style="font-size: 18px\;"><span style="font-family: Verdana\,Geneva\,sans-serif\;">Learn more about Washington State employment laws by attending free webinars offered by the&nbsp\;<a data-auth="NotApplicable" data-linkindex="1" fr-original-style="border: 0px\; font: inherit\; margin: 0px\; padding: 0px\; vertical-align: baseline\; color: rgb(51\, 102\, 153) !important\; text-decoration: underline\; word-break: break-word\;" href="https://us-west-2.protection.sophos.com/?d=govdelivery.com&u=aHR0cHM6Ly9saW5rcy0xLmdvdmRlbGl2ZXJ5LmNvbS9DTDAvaHR0cDolMkYlMkZ3d3cubG5pLndhLmdvdiUzRnV0bV9tZWRpdW09ZW1haWwlMjZ1dG1fc291cmNlPWdvdmRlbGl2ZXJ5LzEvMDEwMDAxOWQ3OTdjNGNjMS02Zjg4MWM4Zi1kZjZhLTQxODUtYjkwNC1mZjE5MDAwZGQwZWItMDAwMDAwL0JJU1VBMVVmSUdTX21XTWNUZ3EtenRBWVJuMlRLVnJqc1VTa3BGNDgySXM9NDUy&p=m&i=NjgxYmUwYjI4Y2U5OGUxMDMyZjNlYjU1&t=UEd6TXdvcnJOWk42cnplRjlXR0lIdWlSSGcwbzJFV21RWGN3WmxVazE2QT0=&h=6d6c43b2b2d34df2a41f3f90d29dec5e&s=AVNPUEhUT0NFTkNSWVBUSVYFsQgmxk2kP61eRrJtVqrHGjFHSn6Kb2Xv5Y5_wgRaSfBAFznQ3Ysy-ej2GJaVMJvUtoQHad_9bi1YiObrIjI3-RYqbrA3pbyXmRkmuLjAk1qJN0sTYAYKNdZ96FEU6Bo" rel="noopener" style="border: 0px\; font: inherit\; margin: 0px\; padding: 0px\; vertical-align: baseline\; text-decoration: underline\; word-break: break-word\; color: rgb(51\, 102\, 153) !important\; user-select: auto\;" title="https://us-west-2.protection.sophos.com?d=govdelivery.com&u=aHR0cHM6Ly9saW5rcy0xLmdvdmRlbGl2ZXJ5LmNvbS9DTDAvaHR0cDolMkYlMkZ3d3cubG5pLndhLmdvdiUzRnV0bV9tZWRpdW09ZW1haWwlMjZ1dG1fc291cmNlPWdvdmRlbGl2ZXJ5LzEvMDEwMDAxOWQ3OTdjNGNjMS02Zjg4MWM4Zi1kZjZhLTQxODUtYjkwNC1mZjE5MDAwZGQwZWItMDAwMDAwL0JJU1VBMVVmSUdTX21XTWNUZ3EtenRBWVJuMlRLVnJqc1VTa3BGNDgySXM9NDUy&p=m&i=NjgxYmUwYjI4Y2U5OGUxMDMyZjNlYjU1&t=UEd6TXdvcnJOWk42cnplRjlXR0lIdWlSSGcwbzJFV21RWGN3WmxVazE2QT0=&h=6d6c43b2b2d34df2a41f3f90d29dec5e&s=AVNPUEhUT0NFTkNSWVBUSVYFsQgmxk2kP61eRrJtVqrHGjFHSn6Kb2Xv5Y5_wgRaSfBAFznQ3Ysy-ej2GJaVMJvUtoQHad_9bi1YiObrIjI3-RYqbrA3pbyXmRkmuLjAk1qJN0sTYAYKNdZ96FEU6Bo">Washington State Department of Labor &amp\; Industries</a>\,</span></span></p><p align="left" style="font-style: normal\; font-variant-ligatures: normal\; font-variant-caps: normal\; font-weight: 400\; letter-spacing: normal\; orphans: 2\; text-indent: 0px\; text-transform: none\; widows: 2\; word-spacing: 0px\; -webkit-text-stroke-width: 0px\; white-space: normal\; background-color: rgb(255\, 255\, 255)\; text-decoration-thickness: initial\; text-decoration-style: initial\; text-decoration-color: initial\; color: rgb(80\, 80\, 80) !important\; font-size: 14px\; font-family: arial\, helvetica\, sans-serif\; text-align: left\; margin: 15px 0px\; line-height: 1.4\;"><span style="font-size: 18px\;"><span style="font-family: Verdana\,Geneva\,sans-serif\;"><em>Vea esta informaci&oacute\;n en espa&ntilde\;ol m&aacute\;s abajo.</em></span></span></p><p align="left" style="font-style: normal\; font-variant-ligatures: normal\; font-variant-caps: normal\; font-weight: 400\; letter-spacing: normal\; orphans: 2\; text-indent: 0px\; text-transform: none\; widows: 2\; word-spacing: 0px\; -webkit-text-stroke-width: 0px\; white-space: normal\; background-color: rgb(255\, 255\, 255)\; text-decoration-thickness: initial\; text-decoration-style: initial\; text-decoration-color: initial\; color: rgb(80\, 80\, 80) !important\; font-size: 14px\; font-family: arial\, helvetica\, sans-serif\; text-align: left\; margin: 15px 0px\; line-height: 1.4\;"><span style="font-size: 18px\;"><span style="font-family: Verdana\,Geneva\,sans-serif\;">Webinar topics include:workers&rsquo\; rights\, overtime exemption rules\, isolated worker protections\, paid sick leave\, and the Equal Pay and Opportunities Act.</span></span></p><p align="left" style="font-style: normal\; font-variant-ligatures: normal\; font-variant-caps: normal\; font-weight: 400\; letter-spacing: normal\; orphans: 2\; text-indent: 0px\; text-transform: none\; widows: 2\; word-spacing: 0px\; -webkit-text-stroke-width: 0px\; white-space: normal\; background-color: rgb(255\, 255\, 255)\; text-decoration-thickness: initial\; text-decoration-style: initial\; text-decoration-color: initial\; color: rgb(80\, 80\, 80) !important\; font-size: 14px\; font-family: arial\, helvetica\, sans-serif\; text-align: left\; margin: 15px 0px\; line-height: 1.4\;"><span style="font-size: 18px\;"><span style="font-family: Verdana\,Geneva\,sans-serif\;">Each session is led by Employment Standards Program staff and includes time for questions.</span></span></p><p align="left" style="font-style: normal\; font-variant-ligatures: normal\; font-variant-caps: normal\; font-weight: 400\; letter-spacing: normal\; orphans: 2\; text-indent: 0px\; text-transform: none\; widows: 2\; word-spacing: 0px\; -webkit-text-stroke-width: 0px\; white-space: normal\; background-color: rgb(255\, 255\, 255)\; text-decoration-thickness: initial\; text-decoration-style: initial\; text-decoration-color: initial\; color: rgb(80\, 80\, 80) !important\; font-size: 14px\; font-family: arial\, helvetica\, sans-serif\; text-align: left\; margin: 15px 0px\; line-height: 1.4\;"><span style="font-size: 18px\;"><span style="font-family: Verdana\,Geneva\,sans-serif\;">To register\, visit&nbsp\;<a data-auth="NotApplicable" data-linkindex="2" fr-original-style="border: 0px\; font: inherit\; margin: 0px\; padding: 0px\; vertical-align: baseline\; color: rgb(51\, 102\, 153) !important\; text-decoration: underline\; word-break: break-word\;" href="https://us-west-2.protection.sophos.com/?d=govdelivery.com&u=aHR0cHM6Ly9saW5rcy0xLmdvdmRlbGl2ZXJ5LmNvbS9DTDAvaHR0cHM6JTJGJTJGd3d3LmxuaS53YS5nb3YlMkZ3b3Jrc2hvcHMtdHJhaW5pbmclMkYlM0Z1dG1fbWVkaXVtPWVtYWlsJTI2dXRtX3NvdXJjZT1nb3ZkZWxpdmVyeS8xLzAxMDAwMTlkNzk3YzRjYzEtNmY4ODFjOGYtZGY2YS00MTg1LWI5MDQtZmYxOTAwMGRkMGViLTAwMDAwMC82Q3pmcWQzMHVZRDY4UEM4blY2WFo1dy1QaGZ0ZlBrMXhEZFJqVDZmbzFZPTQ1Mg==&p=m&i=NjgxYmUwYjI4Y2U5OGUxMDMyZjNlYjU1&t=K1Rsa3NWTTZpb0Q3TTZqQklqRU43MWovcWNxN3AwYWNRbncvUXBmWXA3cz0=&h=6d6c43b2b2d34df2a41f3f90d29dec5e&s=AVNPUEhUT0NFTkNSWVBUSVYFsQgmxk2kP61eRrJtVqrHGjFHSn6Kb2Xv5Y5_wgRaSfBAFznQ3Ysy-ej2GJaVMJvUtoQHad_9bi1YiObrIjI3-RYqbrA3pbyXmRkmuLjAk1qJN0sTYAYKNdZ96FEU6Bo" rel="noopener" style="border: 0px\; font: inherit\; margin: 0px\; padding: 0px\; vertical-align: baseline\; text-decoration: underline\; word-break: break-word\; color: rgb(51\, 102\, 153) !important\; user-select: auto\;" title="https://us-west-2.protection.sophos.com?d=govdelivery.com&u=aHR0cHM6Ly9saW5rcy0xLmdvdmRlbGl2ZXJ5LmNvbS9DTDAvaHR0cHM6JTJGJTJGd3d3LmxuaS53YS5nb3YlMkZ3b3Jrc2hvcHMtdHJhaW5pbmclMkYlM0Z1dG1fbWVkaXVtPWVtYWlsJTI2dXRtX3NvdXJjZT1nb3ZkZWxpdmVyeS8xLzAxMDAwMTlkNzk3YzRjYzEtNmY4ODFjOGYtZGY2YS00MTg1LWI5MDQtZmYxOTAwMGRkMGViLTAwMDAwMC82Q3pmcWQzMHVZRDY4UEM4blY2WFo1dy1QaGZ0ZlBrMXhEZFJqVDZmbzFZPTQ1Mg==&p=m&i=NjgxYmUwYjI4Y2U5OGUxMDMyZjNlYjU1&t=K1Rsa3NWTTZpb0Q3TTZqQklqRU43MWovcWNxN3AwYWNRbncvUXBmWXA3cz0=&h=6d6c43b2b2d34df2a41f3f90d29dec5e&s=AVNPUEhUT0NFTkNSWVBUSVYFsQgmxk2kP61eRrJtVqrHGjFHSn6Kb2Xv5Y5_wgRaSfBAFznQ3Ysy-ej2GJaVMJvUtoQHad_9bi1YiObrIjI3-RYqbrA3pbyXmRkmuLjAk1qJN0sTYAYKNdZ96FEU6Bo">L&amp\;I Workshops\, Events &amp\; Webinars</a> and search for the webinar by its title in the &quot\;Event Title&quot\; drop-down menu.</span></span></p><p align="left" style="font-style: normal\; font-variant-ligatures: normal\; font-variant-caps: normal\; font-weight: 400\; letter-spacing: normal\; orphans: 2\; text-indent: 0px\; text-transform: none\; widows: 2\; word-spacing: 0px\; -webkit-text-stroke-width: 0px\; white-space: normal\; background-color: rgb(255\, 255\, 255)\; text-decoration-thickness: initial\; text-decoration-style: initial\; text-decoration-color: initial\; color: rgb(80\, 80\, 80) !important\; font-size: 14px\; font-family: arial\, helvetica\, sans-serif\; text-align: left\; margin: 15px 0px\; line-height: 1.4\;"><span style="font-family: Verdana\, Geneva\, sans-serif\; font-size: 18px\;">Some webinars are offered at two different times. Both sessions cover the same content\, so you can choose the one that fits your schedule.</span></p></body></html>
LOCATION:
UID:e.3276.1444790
SEQUENCE:3
DTSTAMP:20260419T230933Z
URL:https://members.wafla.org/event-calendar/Details/gov-training-key-employment-laws-at-l-i-s-upcoming-webinars-1711193?sourceTypeId=Hub
END:VEVENT
END:VCALENDAR
